BEGIN:VCALENDAR
VERSION:2.0
PRODID:-//Reading Berks Intergroup - ECPv6.15.17.1//NONSGML v1.0//EN
CALSCALE:GREGORIAN
METHOD:PUBLISH
X-WR-CALNAME:Reading Berks Intergroup
X-ORIGINAL-URL:https://readingberksintergroup.org/es
X-WR-CALDESC:Eventos para Reading Berks Intergroup
REFRESH-INTERVAL;VALUE=DURATION:PT1H
X-Robots-Tag:noindex
X-PUBLISHED-TTL:PT1H
BEGIN:VTIMEZONE
TZID:America/New_York
BEGIN:DAYLIGHT
TZOFFSETFROM:-0500
TZOFFSETTO:-0400
TZNAME:EDT
DTSTART:20250309T070000
END:DAYLIGHT
BEGIN:STANDARD
TZOFFSETFROM:-0400
TZOFFSETTO:-0500
TZNAME:EST
DTSTART:20251102T060000
END:STANDARD
BEGIN:DAYLIGHT
TZOFFSETFROM:-0500
TZOFFSETTO:-0400
TZNAME:EDT
DTSTART:20260308T070000
END:DAYLIGHT
BEGIN:STANDARD
TZOFFSETFROM:-0400
TZOFFSETTO:-0500
TZNAME:EST
DTSTART:20261101T060000
END:STANDARD
BEGIN:DAYLIGHT
TZOFFSETFROM:-0500
TZOFFSETTO:-0400
TZNAME:EDT
DTSTART:20270314T070000
END:DAYLIGHT
BEGIN:STANDARD
TZOFFSETFROM:-0400
TZOFFSETTO:-0500
TZNAME:EST
DTSTART:20271107T060000
END:STANDARD
END:VTIMEZONE
BEGIN:VEVENT
DTSTART;TZID=America/New_York:20260527T180000
DTEND;TZID=America/New_York:20260527T200000
DTSTAMP:20260422T182304
CREATED:20260421T173622Z
LAST-MODIFIED:20260421T173622Z
UID:27006-1779904800-1779912000@readingberksintergroup.org
SUMMARY:Nolde Forest is Welcoming Summer!
DESCRIPTION:A Special Wednesday Night Celebration \nWednesday\, May 27th \nFood\, fun\, and fellowship at 6:00 PM \nSpeaker at 7:00 PM \n\nJoin us for a vibrant night full of laughter\, light bites\, and community spirit—plus an awesome speaker! \nWhat to Expect: \n• A welcoming\, inclusive environment \n• Tasty snacks & refreshments \n• Moments of connection\, joy\, and inspiration \n• Two passionate speakers ready to share
URL:https://readingberksintergroup.org/es/event/nolde-forest-is-welcoming-summer/
LOCATION:One United Church of Christ\, 1730 New Holland Rd\, Reading\, PA\, 19607\, United States
CATEGORIES:Sober Event
END:VEVENT
END:VCALENDAR